BEGIN:VCALENDAR
VERSION:2.0
PRODID:-//United Water Conservation District - ECPv6.15.20//NONSGML v1.0//EN
CALSCALE:GREGORIAN
METHOD:PUBLISH
X-WR-CALNAME:United Water Conservation District
X-ORIGINAL-URL:https://unitedwater.org
X-WR-CALDESC:Events for United Water Conservation District
REFRESH-INTERVAL;VALUE=DURATION:PT1H
X-Robots-Tag:noindex
X-PUBLISHED-TTL:PT1H
BEGIN:VTIMEZONE
TZID:UTC
BEGIN:STANDARD
TZOFFSETFROM:+0000
TZOFFSETTO:+0000
TZNAME:UTC
DTSTART:20190101T000000
END:STANDARD
END:VTIMEZONE
BEGIN:VEVENT
DTSTART;TZID=UTC:20220413T120000
DTEND;TZID=UTC:20220413T160000
DTSTAMP:20260423T003656
CREATED:20220408T083232Z
LAST-MODIFIED:20220408T083232Z
UID:2900-1649851200-1649865600@unitedwater.org
SUMMARY:UWCD Board of Directors Meeting
DESCRIPTION:
URL:https://unitedwater.org/event/uwcd-board-of-directors-meeting-2/
LOCATION:UCWD Headquarters – Boardroom\, 1701 N. Lombard St. Suite 200\, Oxnard\, CA\, 93030\, United States
CATEGORIES:Board Meeting
END:VEVENT
BEGIN:VEVENT
DTSTART;TZID=UTC:20220405T090000
DTEND;TZID=UTC:20220405T091500
DTSTAMP:20260423T003656
CREATED:20220405T020223Z
LAST-MODIFIED:20220405T020223Z
UID:2885-1649149200-1649150100@unitedwater.org
SUMMARY:UWCD Special Board Meeting
DESCRIPTION:
URL:https://unitedwater.org/event/uwcd-special-board-meeting/
LOCATION:UCWD Headquarters – Boardroom\, 1701 N. Lombard St. Suite 200\, Oxnard\, CA\, 93030\, United States
CATEGORIES:Board Meeting
END:VEVENT
BEGIN:VEVENT
DTSTART;TZID=UTC:20220309T120000
DTEND;TZID=UTC:20220309T160000
DTSTAMP:20260423T003656
CREATED:20220305T084859Z
LAST-MODIFIED:20220305T084859Z
UID:2838-1646827200-1646841600@unitedwater.org
SUMMARY:UWCD Board Meeting
DESCRIPTION:I. 2022-03-09 UWCD Board Meeting Agenda FINAL
URL:https://unitedwater.org/event/uwcd-board-meeting-2/
LOCATION:UCWD Headquarters – Boardroom\, 1701 N. Lombard St. Suite 200\, Oxnard\, CA\, 93030\, United States
CATEGORIES:Board Meeting
END:VEVENT
BEGIN:VEVENT
DTSTART;TZID=UTC:20220228T120000
DTEND;TZID=UTC:20220228T130000
DTSTAMP:20260423T003656
CREATED:20220224T031812Z
LAST-MODIFIED:20220224T032204Z
UID:2795-1646049600-1646053200@unitedwater.org
SUMMARY:UWCD Special Board Meeting
DESCRIPTION:2022-02-28 UWCD Special Board Meeting re Iron and Manganese Groundbreaking FINAL
URL:https://unitedwater.org/event/special-board-meeting/
LOCATION:UWCD’s El Rio Facility\, 3561 North Rose Avenue\, Oxnard\, CA\, 93036\, United States
CATEGORIES:Board Meeting
END:VEVENT
BEGIN:VEVENT
DTSTART;TZID=UTC:20220209T120000
DTEND;TZID=UTC:20220209T160000
DTSTAMP:20260423T003656
CREATED:20220205T011421Z
LAST-MODIFIED:20220205T011421Z
UID:2667-1644408000-1644422400@unitedwater.org
SUMMARY:UWCD Board of Directors Meeting
DESCRIPTION:1. 2022-02-09 UWCD Board Meeting Agenda FINAL
URL:https://unitedwater.org/event/uwcd-board-of-directors-meeting/
LOCATION:UCWD Headquarters – Boardroom\, 1701 N. Lombard St. Suite 200\, Oxnard\, CA\, 93030\, United States
CATEGORIES:Board Meeting
END:VEVENT
BEGIN:VEVENT
DTSTART;TZID=UTC:20201209T100000
DTEND;TZID=UTC:20201209T120000
DTSTAMP:20260423T003656
CREATED:20201001T115025Z
LAST-MODIFIED:20201001T115434Z
UID:948-1607508000-1607515200@unitedwater.org
SUMMARY:Regular Board Meeting
DESCRIPTION:
URL:https://unitedwater.org/event/regular-board-meeting-4/
LOCATION:UCWD Headquarters – Boardroom\, 1701 N. Lombard St. Suite 200\, Oxnard\, CA\, 93030\, United States
CATEGORIES:Board Meeting
END:VEVENT
BEGIN:VEVENT
DTSTART;TZID=UTC:20201110T100000
DTEND;TZID=UTC:20201110T120000
DTSTAMP:20260423T003656
CREATED:20201001T114959Z
LAST-MODIFIED:20201001T114959Z
UID:949-1605002400-1605009600@unitedwater.org
SUMMARY:Regular Board Meeting
DESCRIPTION:
URL:https://unitedwater.org/event/regular-board-meeting-3/
LOCATION:UCWD Headquarters – Boardroom\, 1701 N. Lombard St. Suite 200\, Oxnard\, CA\, 93030\, United States
CATEGORIES:Board Meeting
END:VEVENT
BEGIN:VEVENT
DTSTART;TZID=UTC:20201014T100000
DTEND;TZID=UTC:20201014T120000
DTSTAMP:20260423T003656
CREATED:20201001T114624Z
LAST-MODIFIED:20201001T114624Z
UID:947-1602669600-1602676800@unitedwater.org
SUMMARY:Regular Board Meeting
DESCRIPTION:
URL:https://unitedwater.org/event/regular-board-meeting-2/
LOCATION:UCWD Headquarters – Boardroom\, 1701 N. Lombard St. Suite 200\, Oxnard\, CA\, 93030\, United States
CATEGORIES:Board Meeting
END:VEVENT
END:VCALENDAR